BEGIN:VCALENDAR
VERSION:2.0
PRODID:-//eventon.com NONSGML v1.0//EN
CALSCALE:GREGORIAN
METHOD:PUBLISH
BEGIN:VEVENT
UID:69e89291ea0b5
DTSTAMP:20260422T091913Z
DTSTART:20241130T180000Z
DTEND:20241130T235900Z
LOCATION:
SUMMARY:Running Dinner
DESCRIPTION:Ein kulinarischer Abend mit Einblick in Küchen &amp; Wohnzimme
 r. Wer entpuppt sich als Meisterkoch &amp; bester Gastgeber?\nhttps://ec-pf
 orzheim.de/events/running-dinner/
URL:https://ec-pforzheim.de/events/running-dinner/
END:VEVENT
END:VCALENDAR