BEGIN:VCALENDAR
VERSION:2.0
PRODID:-//eventon.com NONSGML v1.0//EN
CALSCALE:GREGORIAN
METHOD:PUBLISH
BEGIN:VEVENT
UID:69e892b1316c3
DTSTAMP:20260422T091945Z
DTSTART:20250916T180000Z
DTEND:20250916T194500Z
LOCATION:Jugendbundraum Sachsenstraße 32
SUMMARY:Teenstag
DESCRIPTION:Du gehst in die 5. oder 6. Klasse? Dann ist der Teenstag genau 
 dein Ding! Dich erwarten coole Spiele\,  starke Gemeinschaft\,  viel Spaß 
 – und ein Input aus der Bibel\,  der dich im Alltag stärkt.Natürlich bl
 eibt auch Zeit für eine Runde Kicker oder Tischtennis.Komm vorbei und brin
 g deine Freunde mit[..]\nhttps://ec-pforzheim.de/events/teenstag/
URL:https://ec-pforzheim.de/events/teenstag/
END:VEVENT
END:VCALENDAR